BEGIN:VCALENDAR
VERSION:2.0
PRODID:spatie/icalendar-generator
NAME:Abakus Konzert
X-WR-CALNAME:Abakus Konzert
BEGIN:VTIMEZONE
TZID:Europe/Berlin
BEGIN:DAYLIGHT
DTSTART:20260329T030000
TZOFFSETFROM:+0100
TZOFFSETTO:+0200
END:DAYLIGHT
BEGIN:STANDARD
DTSTART:20261025T030000
TZOFFSETFROM:+0200
TZOFFSETTO:+0100
END:STANDARD
BEGIN:DAYLIGHT
DTSTART:20270328T030000
TZOFFSETFROM:+0100
TZOFFSETTO:+0200
END:DAYLIGHT
END:VTIMEZONE
BEGIN:VTIMEZONE
TZID:UTC
BEGIN:STANDARD
DTSTART:20250725T225133
TZOFFSETFROM:+0000
TZOFFSETTO:+0000
END:STANDARD
END:VTIMEZONE
BEGIN:VEVENT
UID:abakus-konzert-3189
DTSTAMP:20260421T225133Z
SUMMARY:NGL-Chortag zum Thema Mut
DESCRIPTION:NGL-Chortag mit Siegfried und Oliver Fietz für Chorleiter\, Ch
 orgruppen und alle\, die gern im Chor singen in der Zeit von 10-16:30 Uhr 
 mit anschließender Gottesdienstgestaltung um 18 Uhr in der Basilika
LOCATION:Abtei Waldsassen\, Basilikaplatz 2\, 95652 Waldsassen
IMAGE;VALUE=URI:https://abakusmusik.de/cms/site/assets/files/3189/wo-taucht
 -mut-in-der-bibel-auf.1280x0.jpg
DTSTART;TZID=Europe/Berlin:20261114T100000
DTEND;TZID=Europe/Berlin:20261114T120000
GEO:50.003674;12.309113
END:VEVENT
END:VCALENDAR