BEGIN:VCALENDAR
VERSION:2.0
PRODID:spatie/icalendar-generator
NAME:Abakus Konzert
X-WR-CALNAME:Abakus Konzert
BEGIN:VTIMEZONE
TZID:Europe/Berlin
BEGIN:DAYLIGHT
DTSTART:20260329T030000
TZOFFSETFROM:+0100
TZOFFSETTO:+0200
END:DAYLIGHT
BEGIN:STANDARD
DTSTART:20261025T030000
TZOFFSETFROM:+0200
TZOFFSETTO:+0100
END:STANDARD
BEGIN:DAYLIGHT
DTSTART:20270328T030000
TZOFFSETFROM:+0100
TZOFFSETTO:+0200
END:DAYLIGHT
END:VTIMEZONE
BEGIN:VTIMEZONE
TZID:UTC
BEGIN:STANDARD
DTSTART:20250725T225028
TZOFFSETFROM:+0000
TZOFFSETTO:+0000
END:STANDARD
END:VTIMEZONE
BEGIN:VEVENT
UID:abakus-konzert-3717
DTSTAMP:20260421T225028Z
SUMMARY:Von guten Mächten wunderbar geborgen - Konzert in Selb
DESCRIPTION:Konzert mit Siegfried und Oliver Fietz 
LOCATION:Ev. Christuskirche in 95100 Selb\, Wilhelm-Löhe-Platz
IMAGE;VALUE=URI:https://abakusmusik.de/cms/site/assets/files/3717/von-guten
 -machten-wunderbar-geborgen-konzert-in-selb.1280x0.jpg
DTSTART;TZID=Europe/Berlin:20261115T160000
DTEND;TZID=Europe/Berlin:20261115T180000
GEO:50.162193;12.140209
END:VEVENT
END:VCALENDAR