BEGIN:VCALENDAR
VERSION:2.0
PRODID:spatie/icalendar-generator
NAME:Abakus Konzert
X-WR-CALNAME:Abakus Konzert
BEGIN:VTIMEZONE
TZID:Europe/Berlin
BEGIN:STANDARD
DTSTART:20251026T030000
TZOFFSETFROM:+0200
TZOFFSETTO:+0100
END:STANDARD
BEGIN:DAYLIGHT
DTSTART:20260329T030000
TZOFFSETFROM:+0100
TZOFFSETTO:+0200
END:DAYLIGHT
BEGIN:STANDARD
DTSTART:20261025T030000
TZOFFSETFROM:+0200
TZOFFSETTO:+0100
END:STANDARD
END:VTIMEZONE
BEGIN:VTIMEZONE
TZID:UTC
BEGIN:STANDARD
DTSTART:20250725T225025
TZOFFSETFROM:+0000
TZOFFSETTO:+0000
END:STANDARD
END:VTIMEZONE
BEGIN:VEVENT
UID:abakus-konzert-3568
DTSTAMP:20260421T225025Z
SUMMARY:Von guten Mächten - Konzert in St. Georgen  San Giorgio b. Bruneck
  /Italien
DESCRIPTION:Konzert mit Siegfried und Oliver Fietz
LOCATION:Kath. Kirche St. Georgen\, Kirchweg 8\, 39031 b. Bruneck/Italien
IMAGE;VALUE=URI:https://abakusmusik.de/cms/site/assets/files/3568/von-guten
 -machten-konzert-in-st-georgen-san-giorgio-b-bruneck.1280x0.jpg
DTSTART;TZID=Europe/Berlin:20260530T170000
DTEND;TZID=Europe/Berlin:20260530T190000
GEO:46.815922;11.933437
END:VEVENT
END:VCALENDAR