BEGIN:VCALENDAR
VERSION:2.0
PRODID:spatie/icalendar-generator
NAME:Abakus Konzert
X-WR-CALNAME:Abakus Konzert
BEGIN:VTIMEZONE
TZID:Europe/Berlin
BEGIN:STANDARD
DTSTART:20251026T030000
TZOFFSETFROM:+0200
TZOFFSETTO:+0100
END:STANDARD
BEGIN:DAYLIGHT
DTSTART:20260329T030000
TZOFFSETFROM:+0100
TZOFFSETTO:+0200
END:DAYLIGHT
BEGIN:STANDARD
DTSTART:20261025T030000
TZOFFSETFROM:+0200
TZOFFSETTO:+0100
END:STANDARD
END:VTIMEZONE
BEGIN:VTIMEZONE
TZID:UTC
BEGIN:STANDARD
DTSTART:20250725T225132
TZOFFSETFROM:+0000
TZOFFSETTO:+0000
END:STANDARD
END:VTIMEZONE
BEGIN:VEVENT
UID:abakus-konzert-3567
DTSTAMP:20260421T225132Z
SUMMARY:Von guten Mächten - Konzert in Meran
DESCRIPTION:Konzert mit Siegfried und Oliver Fietz
LOCATION:Christuskirche Meran\, Carducci-Str.\, 39012 Meran Italien
IMAGE;VALUE=URI:https://abakusmusik.de/cms/site/assets/files/3567/von-guten
 -machten-konzert-in-meran.1280x0.jpg
DTSTART;TZID=Europe/Berlin:20260529T190000
DTEND;TZID=Europe/Berlin:20260529T210000
GEO:46.669876;11.156456
END:VEVENT
END:VCALENDAR