BEGIN:VCALENDAR
VERSION:2.0
PRODID:spatie/icalendar-generator
NAME:Abakus Konzert
X-WR-CALNAME:Abakus Konzert
BEGIN:VTIMEZONE
TZID:Europe/Berlin
BEGIN:DAYLIGHT
DTSTART:20260329T030000
TZOFFSETFROM:+0100
TZOFFSETTO:+0200
END:DAYLIGHT
BEGIN:STANDARD
DTSTART:20261025T030000
TZOFFSETFROM:+0200
TZOFFSETTO:+0100
END:STANDARD
END:VTIMEZONE
BEGIN:VTIMEZONE
TZID:UTC
BEGIN:STANDARD
DTSTART:20250725T225011
TZOFFSETFROM:+0000
TZOFFSETTO:+0000
END:STANDARD
END:VTIMEZONE
BEGIN:VEVENT
UID:abakus-konzert-3716
DTSTAMP:20260421T225011Z
SUMMARY:Ökumen. Gottesdienst + Konzert in Jever
DESCRIPTION:Ökumenischer Gottesdienst + anschl. Konzert mit Siegfried und 
 Oliver
LOCATION:St. Marien in 26441 Jever
IMAGE;VALUE=URI:https://abakusmusik.de/cms/site/assets/files/3716/okumen-go
 ttesdienst-konzert-in-jever.1280x0.jpg
DTSTART;TZID=Europe/Berlin:20260912T180000
DTEND;TZID=Europe/Berlin:20260912T200000
GEO:53.572758;7.899419
END:VEVENT
END:VCALENDAR