BEGIN:VCALENDAR
VERSION:2.0
PRODID:spatie/icalendar-generator
NAME:Abakus Konzert
X-WR-CALNAME:Abakus Konzert
BEGIN:VTIMEZONE
TZID:Europe/Berlin
BEGIN:STANDARD
DTSTART:20251026T030000
TZOFFSETFROM:+0200
TZOFFSETTO:+0100
END:STANDARD
BEGIN:DAYLIGHT
DTSTART:20260329T030000
TZOFFSETFROM:+0100
TZOFFSETTO:+0200
END:DAYLIGHT
BEGIN:STANDARD
DTSTART:20261025T030000
TZOFFSETFROM:+0200
TZOFFSETTO:+0100
END:STANDARD
END:VTIMEZONE
BEGIN:VTIMEZONE
TZID:UTC
BEGIN:STANDARD
DTSTART:20250725T225027
TZOFFSETFROM:+0000
TZOFFSETTO:+0000
END:STANDARD
END:VTIMEZONE
BEGIN:VEVENT
UID:abakus-konzert-3715
DTSTAMP:20260421T225027Z
SUMMARY:Musikalischer Gottesdienst in Falkensstein
DESCRIPTION:Musikalischer Open-Air-Gottesdienst mit Siegfried und Oliver Fi
 etz  Bei schlechtem Wetter findet die Veranstaltung in der Kirche 'Zum He
 iligen Kreuz' statt
LOCATION:Stadtpark Falkenstein\, Allee 9\, 08223 Falkenstein
IMAGE;VALUE=URI:https://abakusmusik.de/cms/site/assets/files/3715/musikalis
 cher-gottesdienst-in-falkensstein.1280x0.jpg
DTSTART;TZID=Europe/Berlin:20260607T100000
DTEND;TZID=Europe/Berlin:20260607T120000
GEO:50.479107;12.370319
END:VEVENT
END:VCALENDAR