BEGIN:VCALENDAR
VERSION:2.0
PRODID:spatie/icalendar-generator
NAME:Abakus Konzert
X-WR-CALNAME:Abakus Konzert
BEGIN:VTIMEZONE
TZID:Europe/Berlin
BEGIN:DAYLIGHT
DTSTART:20260329T030000
TZOFFSETFROM:+0100
TZOFFSETTO:+0200
END:DAYLIGHT
BEGIN:STANDARD
DTSTART:20261025T030000
TZOFFSETFROM:+0200
TZOFFSETTO:+0100
END:STANDARD
BEGIN:DAYLIGHT
DTSTART:20270328T030000
TZOFFSETFROM:+0100
TZOFFSETTO:+0200
END:DAYLIGHT
END:VTIMEZONE
BEGIN:VTIMEZONE
TZID:UTC
BEGIN:STANDARD
DTSTART:20250725T225131
TZOFFSETFROM:+0000
TZOFFSETTO:+0000
END:STANDARD
END:VTIMEZONE
BEGIN:VEVENT
UID:abakus-konzert-3723
DTSTAMP:20260421T225131Z
SUMMARY:Konzert in Stockach
DESCRIPTION:Konzert mit Siegfried und Oliver Fietz
LOCATION:Ev. Melanchthonkirche\, Tuttlinger Str. 2\, 78333 Stockach
IMAGE;VALUE=URI:https://abakusmusik.de/cms/site/assets/files/3723/lasst-uns
 -dem-leben-trauen-konzert-in-stockach.1280x0.jpg
DTSTART;TZID=Europe/Berlin:20261106T190000
DTEND;TZID=Europe/Berlin:20261106T210000
GEO:47.854313;9.014805
END:VEVENT
END:VCALENDAR