BEGIN:VCALENDAR
VERSION:2.0
PRODID:spatie/icalendar-generator
NAME:Abakus Konzert
X-WR-CALNAME:Abakus Konzert
BEGIN:VTIMEZONE
TZID:Europe/Berlin
BEGIN:DAYLIGHT
DTSTART:20260329T030000
TZOFFSETFROM:+0100
TZOFFSETTO:+0200
END:DAYLIGHT
BEGIN:STANDARD
DTSTART:20261025T030000
TZOFFSETFROM:+0200
TZOFFSETTO:+0100
END:STANDARD
BEGIN:DAYLIGHT
DTSTART:20270328T030000
TZOFFSETFROM:+0100
TZOFFSETTO:+0200
END:DAYLIGHT
END:VTIMEZONE
BEGIN:VTIMEZONE
TZID:UTC
BEGIN:STANDARD
DTSTART:20250725T224949
TZOFFSETFROM:+0000
TZOFFSETTO:+0000
END:STANDARD
END:VTIMEZONE
BEGIN:VEVENT
UID:abakus-konzert-3726
DTSTAMP:20260421T224949Z
SUMMARY:Konzert mit Siegfried und Oliver Fietz in Euerbach
DESCRIPTION:Konzert mit Siegfried und Oliver Fietz 
LOCATION:Kath. Neue Kirche\, 97502 Euerbach
IMAGE;VALUE=URI:https://abakusmusik.de/cms/site/assets/files/3726/konzert-m
 it-siegfried-und-oliver-fietz-in-euerbach.1280x0.jpg
DTSTART;TZID=Europe/Berlin:20260926T190000
DTEND;TZID=Europe/Berlin:20260926T210000
GEO:50.061901;10.137038
END:VEVENT
END:VCALENDAR