BEGIN:VCALENDAR
VERSION:2.0
PRODID:spatie/icalendar-generator
NAME:Abakus Konzert
X-WR-CALNAME:Abakus Konzert
BEGIN:VTIMEZONE
TZID:Europe/Berlin
BEGIN:DAYLIGHT
DTSTART:20260329T030000
TZOFFSETFROM:+0100
TZOFFSETTO:+0200
END:DAYLIGHT
BEGIN:STANDARD
DTSTART:20261025T030000
TZOFFSETFROM:+0200
TZOFFSETTO:+0100
END:STANDARD
BEGIN:DAYLIGHT
DTSTART:20270328T030000
TZOFFSETFROM:+0100
TZOFFSETTO:+0200
END:DAYLIGHT
END:VTIMEZONE
BEGIN:VTIMEZONE
TZID:UTC
BEGIN:STANDARD
DTSTART:20250725T225011
TZOFFSETFROM:+0000
TZOFFSETTO:+0000
END:STANDARD
END:VTIMEZONE
BEGIN:VEVENT
UID:abakus-konzert-3719
DTSTAMP:20260421T225011Z
SUMMARY:Konzert in Großwenkheim
DESCRIPTION:Konzert mit Siegfried und Oliver Fietz 
LOCATION:Kirche Mariä Himmelfahrt Großwenkheim\, 97702 Münnerstadt
IMAGE;VALUE=URI:https://abakusmusik.de/cms/site/assets/files/3719/konzert-i
 n-grosswenkheim.1280x0.jpg
DTSTART;TZID=Europe/Berlin:20260927T180000
DTEND;TZID=Europe/Berlin:20260927T200000
GEO:50.256886;10.312529
END:VEVENT
END:VCALENDAR