BEGIN:VCALENDAR
VERSION:2.0
PRODID:spatie/icalendar-generator
NAME:Abakus Konzert
X-WR-CALNAME:Abakus Konzert
BEGIN:VTIMEZONE
TZID:Europe/Berlin
BEGIN:DAYLIGHT
DTSTART:20260329T030000
TZOFFSETFROM:+0100
TZOFFSETTO:+0200
END:DAYLIGHT
BEGIN:STANDARD
DTSTART:20261025T030000
TZOFFSETFROM:+0200
TZOFFSETTO:+0100
END:STANDARD
BEGIN:DAYLIGHT
DTSTART:20270328T030000
TZOFFSETFROM:+0100
TZOFFSETTO:+0200
END:DAYLIGHT
END:VTIMEZONE
BEGIN:VTIMEZONE
TZID:UTC
BEGIN:STANDARD
DTSTART:20250725T224949
TZOFFSETFROM:+0000
TZOFFSETTO:+0000
END:STANDARD
END:VTIMEZONE
BEGIN:VEVENT
UID:abakus-konzert-3725
DTSTAMP:20260421T224949Z
SUMMARY:Konzert für Männertreff der FeG Breitscheid/Medenbach
DESCRIPTION:Konzert mit Siegfried und Oliver Fietz 
LOCATION:FeG Medenbach\, Friedhofstr. 12\, 35767 Breitscheid
IMAGE;VALUE=URI:https://abakusmusik.de/cms/site/assets/files/3725/konzert-f
 ur-mannertreff-der-feg-breitscheid-medenbach.1280x0.jpg
DTSTART;TZID=Europe/Berlin:20261031T190000
DTEND;TZID=Europe/Berlin:20261031T210000
GEO:50.701599;8.230991
END:VEVENT
END:VCALENDAR