BEGIN:VCALENDAR
VERSION:2.0
PRODID:spatie/icalendar-generator
NAME:Abakus Konzert
X-WR-CALNAME:Abakus Konzert
BEGIN:VTIMEZONE
TZID:Europe/Berlin
BEGIN:STANDARD
DTSTART:20251026T030000
TZOFFSETFROM:+0200
TZOFFSETTO:+0100
END:STANDARD
BEGIN:DAYLIGHT
DTSTART:20260329T030000
TZOFFSETFROM:+0100
TZOFFSETTO:+0200
END:DAYLIGHT
BEGIN:STANDARD
DTSTART:20261025T030000
TZOFFSETFROM:+0200
TZOFFSETTO:+0100
END:STANDARD
END:VTIMEZONE
BEGIN:VTIMEZONE
TZID:UTC
BEGIN:STANDARD
DTSTART:20250725T225026
TZOFFSETFROM:+0000
TZOFFSETTO:+0000
END:STANDARD
END:VTIMEZONE
BEGIN:VEVENT
UID:abakus-konzert-3718
DTSTAMP:20260421T225026Z
SUMMARY:Happy Birthday - Geburtstagskonzert im Skulpturenpark
DESCRIPTION:Geburtstagskonzert mit Familie Fietz im Skulpturenpark mit Gäs
 ten  Infos folgen
LOCATION:Skulpturenpark von Siegfried Fietz\, Greifenstein Lenzwies
IMAGE;VALUE=URI:https://abakusmusik.de/cms/site/assets/files/3718/happy-bir
 thday-geburtstagskonzert-im-skulpturenpark.1280x0.jpg
DTSTART;TZID=Europe/Berlin:20260525T150000
DTEND;TZID=Europe/Berlin:20260525T170000
GEO:50.62291;8.292588
END:VEVENT
END:VCALENDAR