BEGIN:VCALENDAR
VERSION:2.0
PRODID:spatie/icalendar-generator
NAME:Abakus Konzert
X-WR-CALNAME:Abakus Konzert
BEGIN:VTIMEZONE
TZID:Europe/Berlin
BEGIN:STANDARD
DTSTART:20251026T030000
TZOFFSETFROM:+0200
TZOFFSETTO:+0100
END:STANDARD
BEGIN:DAYLIGHT
DTSTART:20260329T030000
TZOFFSETFROM:+0100
TZOFFSETTO:+0200
END:DAYLIGHT
BEGIN:STANDARD
DTSTART:20261025T030000
TZOFFSETFROM:+0200
TZOFFSETTO:+0100
END:STANDARD
END:VTIMEZONE
BEGIN:VTIMEZONE
TZID:UTC
BEGIN:STANDARD
DTSTART:20250725T225027
TZOFFSETFROM:+0000
TZOFFSETTO:+0000
END:STANDARD
END:VTIMEZONE
BEGIN:VEVENT
UID:abakus-konzert-3724
DTSTAMP:20260421T225027Z
SUMMARY:Gottesdienstkonzert mit Oliver Fietz in Immendingen
DESCRIPTION:Gottesdienstkonzert mit Oliver Fietz Eintritt frei - Spenden er
 beten
LOCATION:Pfarrkirche St. Peter und Paul\, Schlossplatz 1\, 78194 Immendinge
 n
IMAGE;VALUE=URI:https://abakusmusik.de/cms/site/assets/files/3724/gottesdie
 nstkonzert-mit-oliver-fietz-in-immendingen.1280x0.jpg
DTSTART;TZID=Europe/Berlin:20260426T153000
DTEND;TZID=Europe/Berlin:20260426T173000
GEO:47.939217;8.733441
END:VEVENT
END:VCALENDAR