BEGIN:VCALENDAR
VERSION:2.0
PRODID:spatie/icalendar-generator
NAME:Abakus Konzert
X-WR-CALNAME:Abakus Konzert
BEGIN:VTIMEZONE
TZID:Europe/Berlin
BEGIN:DAYLIGHT
DTSTART:20260329T030000
TZOFFSETFROM:+0100
TZOFFSETTO:+0200
END:DAYLIGHT
BEGIN:STANDARD
DTSTART:20261025T030000
TZOFFSETFROM:+0200
TZOFFSETTO:+0100
END:STANDARD
END:VTIMEZONE
BEGIN:VTIMEZONE
TZID:UTC
BEGIN:STANDARD
DTSTART:20250725T225132
TZOFFSETFROM:+0000
TZOFFSETTO:+0000
END:STANDARD
END:VTIMEZONE
BEGIN:VEVENT
UID:abakus-konzert-3722
DTSTAMP:20260421T225132Z
SUMMARY:Gnade für die Welt - Konzert in Magdeburg
DESCRIPTION:Konzert mit Siegfried und Oliver Fietz 
LOCATION:Ev. Trinitatis-Gemeinde Berliner Chaussee 42\, 39114 Magdeburg
IMAGE;VALUE=URI:https://abakusmusik.de/cms/site/assets/files/3722/unnamed.1
 280x0.png
DTSTART;TZID=Europe/Berlin:20260829T190000
DTEND;TZID=Europe/Berlin:20260829T210000
GEO:52.129112;11.669987
END:VEVENT
END:VCALENDAR