BEGIN:VCALENDAR
VERSION:2.0
PRODID:spatie/icalendar-generator
NAME:Abakus Konzert
X-WR-CALNAME:Abakus Konzert
BEGIN:VTIMEZONE
TZID:Europe/Berlin
BEGIN:DAYLIGHT
DTSTART:20260329T030000
TZOFFSETFROM:+0100
TZOFFSETTO:+0200
END:DAYLIGHT
BEGIN:STANDARD
DTSTART:20261025T030000
TZOFFSETFROM:+0200
TZOFFSETTO:+0100
END:STANDARD
END:VTIMEZONE
BEGIN:VTIMEZONE
TZID:UTC
BEGIN:STANDARD
DTSTART:20250725T225133
TZOFFSETFROM:+0000
TZOFFSETTO:+0000
END:STANDARD
END:VTIMEZONE
BEGIN:VEVENT
UID:abakus-konzert-3720
DTSTAMP:20260421T225133Z
SUMMARY:Gnade für die Welt - Konzert in Engelsberg
DESCRIPTION:Konzert mit Siegfried und Oliver Fietz
LOCATION:Pfarrkirche St. Andreas\, 84549 Engelsberg
IMAGE;VALUE=URI:https://abakusmusik.de/cms/site/assets/files/3720/gnade-fur
 -die-welt-konzert-in-engelsberg.1280x0.jpg
DTSTART;TZID=Europe/Berlin:20260906T180000
DTEND;TZID=Europe/Berlin:20260906T200000
GEO:48.115986;12.54237
END:VEVENT
END:VCALENDAR