BEGIN:VCALENDAR
VERSION:2.0
PRODID:spatie/icalendar-generator
NAME:Abakus Konzert
X-WR-CALNAME:Abakus Konzert
BEGIN:VTIMEZONE
TZID:Europe/Berlin
BEGIN:STANDARD
DTSTART:20251026T030000
TZOFFSETFROM:+0200
TZOFFSETTO:+0100
END:STANDARD
BEGIN:DAYLIGHT
DTSTART:20260329T030000
TZOFFSETFROM:+0100
TZOFFSETTO:+0200
END:DAYLIGHT
BEGIN:STANDARD
DTSTART:20261025T030000
TZOFFSETFROM:+0200
TZOFFSETTO:+0100
END:STANDARD
END:VTIMEZONE
BEGIN:VTIMEZONE
TZID:UTC
BEGIN:STANDARD
DTSTART:20250725T225131
TZOFFSETFROM:+0000
TZOFFSETTO:+0000
END:STANDARD
END:VTIMEZONE
BEGIN:VEVENT
UID:abakus-konzert-3566
DTSTAMP:20260421T225131Z
SUMMARY:Gnade für die Welt - Konzert auf dem Katholikentag
DESCRIPTION:Konzert mit Siegfried und Oliver Fietz sowie Sandra Fietz-Oberb
 eck
LOCATION:Würzburg\, Juliusspital\, Gartenpavillon\, Klinikstr. 1
IMAGE;VALUE=URI:https://abakusmusik.de/cms/site/assets/files/3566/gnade-fur
 -die-welt-konzert-auf-dem-katholikentag.1280x0.jpg
DTSTART;TZID=Europe/Berlin:20260514T133000
DTEND;TZID=Europe/Berlin:20260514T153000
GEO:49.798676;9.932268
END:VEVENT
END:VCALENDAR